View In:
ArcGIS JavaScript
ArcGIS Online Map Viewer
ArcGIS Earth
ArcGIS Pro
Service Description:
Map Name: DLMap_CIA
Legend
All Layers and Tables
Dynamic Legend
Dynamic All Layers
Layers:
Description:
Copyright Text:
Spatial Reference:
4490
(4490)
Single Fused Map Cache: true
Tile Info:
- Height: 256
- Width: 256
- DPI: 96
-
Levels of Detail: 20
-
Level ID: 0
[ Start Tile, End Tile ]
- Resolution: 0.7031250000000002
- Scale: 2.9549759305875003E8
-
Level ID: 1
[ Start Tile, End Tile ]
- Resolution: 0.3515625000000001
- Scale: 1.4774879652937502E8
-
Level ID: 2
[ Start Tile, End Tile ]
- Resolution: 0.17578125000000006
- Scale: 7.387439826468751E7
-
Level ID: 3
[ Start Tile, End Tile ]
- Resolution: 0.08789062500000003
- Scale: 3.6937199132343754E7
-
Level ID: 4
[ Start Tile, End Tile ]
- Resolution: 0.043945312500000014
- Scale: 1.8468599566171877E7
-
Level ID: 5
[ Start Tile, End Tile ]
- Resolution: 0.021972656250000007
- Scale: 9234299.783085939
-
Level ID: 6
[ Start Tile, End Tile ]
- Resolution: 0.010986328125000003
- Scale: 4617149.891542969
-
Level ID: 7
[ Start Tile, End Tile ]
- Resolution: 0.005493164062500002
- Scale: 2308574.9457714846
-
Level ID: 8
[ Start Tile, End Tile ]
- Resolution: 0.002746582031250001
- Scale: 1154287.4728857423
-
Level ID: 9
[ Start Tile, End Tile ]
- Resolution: 0.0013732910156250004
- Scale: 577143.7364428712
-
Level ID: 10
[ Start Tile, End Tile ]
- Resolution: 6.866455078125002E-4
- Scale: 288571.8682214356
-
Level ID: 11
[ Start Tile, End Tile ]
- Resolution: 3.433227539062501E-4
- Scale: 144285.9341107178
-
Level ID: 12
[ Start Tile, End Tile ]
- Resolution: 1.7166137695312505E-4
- Scale: 72142.9670553589
-
Level ID: 13
[ Start Tile, End Tile ]
- Resolution: 8.583068847656253E-5
- Scale: 36071.48352767945
-
Level ID: 14
[ Start Tile, End Tile ]
- Resolution: 4.2915344238281264E-5
- Scale: 18035.741763839724
-
Level ID: 15
[ Start Tile, End Tile ]
- Resolution: 2.1457672119140632E-5
- Scale: 9017.870881919862
-
Level ID: 16
[ Start Tile, End Tile ]
- Resolution: 1.0728836059570316E-5
- Scale: 4508.935440959931
-
Level ID: 17
[ Start Tile, End Tile ]
- Resolution: 5.364418029785158E-6
- Scale: 2254.4677204799655
-
Level ID: 18
[ Start Tile, End Tile ]
- Resolution: 2.682209014892579E-6
- Scale: 1127.2338602399827
-
Level ID: 19
[ Start Tile, End Tile ]
- Resolution: 1.3411045074462895E-6
- Scale: 563.6169301199914
- Format: MIXED
- Compression Quality: 75.0
- Origin: X: -180.0
Y: 90.0
- Spatial Reference: 4490
(4490)
Storage Info:
- Storage Format: esriMapCacheStorageModeCompact
- Packet Size: 128
Initial Extent:
XMin: 120.9363021107901
YMin: 38.52277864749009
XMax: 123.55131188921003
YMax: 40.28230335251005
Spatial Reference: 4490
Full Extent:
XMin: 120.97213999900009
YMin: 38.602212000000065
XMax: 123.51547400100003
YMax: 40.202870000000075
Spatial Reference: 4490
Units: esriDecimalDegrees
Supported Image Format Types: PNG32,PNG24,PNG,JPG,DIB,TIFF,EMF,PS,PDF,GIF,SVG,SVGZ,BMP
Document Info:
Title: 地图1
Author:
Comments:
Subject:
Category:
Keywords:
AntialiasingMode: Fast
TextAntialiasingMode: Force
Supports Dynamic Layers: true
MaxRecordCount: 2000
MaxImageHeight: 4096
MaxImageWidth: 4096
Supported Query Formats: JSON, geoJSON, PBF
Supports Query Data Elements: true
Min Scale: 4617149.891542969
Max Scale: 1127.2338602399827
Supports Datum Transformation: true
Child Resources:
Info
Dynamic Layer
Supported Operations:
Export Map
Identify
QueryLegends
QueryDomains
Find
Return Updates