{
 "currentVersion": 11.1,
 "cimVersion": "3.1.0",
 "serviceDescription": "",
 "mapName": "Layers",
 "description": "",
 "copyrightText": "",
 "supportsDynamicLayers": false,
 "layers": [
  {
   "id": 0,
   "name": "metadata",
   "parentLayerId": -1,
   "defaultVisibility": true,
   "subLayerIds": null,
   "minScale": 0,
   "maxScale": 0,
   "type": "Feature Layer",
   "geometryType": "esriGeometryPolygon",
   "supportsDynamicLegends": true
  }
 ],
 "tables": [],
 "spatialReference": {
  "wkid": 4490,
  "latestWkid": 4490,
  "xyTolerance": 8.983152841195213E-9,
  "zTolerance": 0.001,
  "mTolerance": 0.001,
  "falseX": -399.9999999999999,
  "falseY": -399.9999999999999,
  "xyUnits": 1.0000000000000001E9,
  "falseZ": -100000,
  "zUnits": 10000,
  "falseM": -100000,
  "mUnits": 10000
 },
 "singleFusedMapCache": true,
 "tileInfo": {
  "rows": 256,
  "cols": 256,
  "dpi": 96,
  "format": "MIXED",
  "compressionQuality": 75,
  "origin": {
   "x": -180,
   "y": 90
  },
  "spatialReference": {
   "wkid": 4490,
   "latestWkid": 4490,
   "xyTolerance": 8.983152841195213E-9,
   "zTolerance": 0.001,
   "mTolerance": 0.001,
   "falseX": -400,
   "falseY": -400,
   "xyUnits": 1.1258999068426238E13,
   "falseZ": -100000,
   "zUnits": 10000,
   "falseM": -100000,
   "mUnits": 10000
  },
  "lods": [
   {
    "level": 0,
    "resolution": 1.4078260157100582,
    "scale": 5.91657527591555E8
   },
   {
    "level": 1,
    "resolution": 0.7031250000000002,
    "scale": 2.9549759305875003E8
   },
   {
    "level": 2,
    "resolution": 0.3515625000000001,
    "scale": 1.4774879652937502E8
   },
   {
    "level": 3,
    "resolution": 0.17578125000000006,
    "scale": 7.387439826468751E7
   },
   {
    "level": 4,
    "resolution": 0.08789062500000003,
    "scale": 3.6937199132343754E7
   },
   {
    "level": 5,
    "resolution": 0.043945312500000014,
    "scale": 1.8468599566171877E7
   },
   {
    "level": 6,
    "resolution": 0.021972656250000007,
    "scale": 9234299.783085939
   },
   {
    "level": 7,
    "resolution": 0.010986328125000003,
    "scale": 4617149.891542969
   },
   {
    "level": 8,
    "resolution": 0.005493164062500002,
    "scale": 2308574.9457714846
   },
   {
    "level": 9,
    "resolution": 0.002746582031250001,
    "scale": 1154287.4728857423
   },
   {
    "level": 10,
    "resolution": 0.0013732910156250004,
    "scale": 577143.7364428712
   },
   {
    "level": 11,
    "resolution": 6.866455078125002E-4,
    "scale": 288571.8682214356
   },
   {
    "level": 12,
    "resolution": 3.433227539062501E-4,
    "scale": 144285.9341107178
   },
   {
    "level": 13,
    "resolution": 1.7166137695312505E-4,
    "scale": 72142.9670553589
   },
   {
    "level": 14,
    "resolution": 8.583068847656253E-5,
    "scale": 36071.48352767945
   },
   {
    "level": 15,
    "resolution": 4.2915344238281264E-5,
    "scale": 18035.741763839724
   },
   {
    "level": 16,
    "resolution": 2.1457672119140632E-5,
    "scale": 9017.870881919862
   },
   {
    "level": 17,
    "resolution": 1.0728836059570316E-5,
    "scale": 4508.935440959931
   },
   {
    "level": 18,
    "resolution": 5.364418029785158E-6,
    "scale": 2254.4677204799655
   },
   {
    "level": 19,
    "resolution": 2.682209014892579E-6,
    "scale": 1127.2338602399827
   },
   {
    "level": 20,
    "resolution": 1.3411045074462895E-6,
    "scale": 563.6169301199914
   }
  ]
 },
 "storageInfo": {
  "storageFormat": "esriMapCacheStorageModeCompactV2",
  "packetSize": 128
 },
 "initialExtent": {
  "xmin": 117.63843180568061,
  "ymin": 38.432032762182416,
  "xmax": 126.98661244601068,
  "ymax": 43.72933512503613,
  "spatialReference": {
   "cs": "gcs",
   "wkid": 4490
  }
 },
 "fullExtent": {
  "xmin": 118.83943045325304,
  "ymin": 38.67281923322122,
  "xmax": 125.78561379843825,
  "ymax": 43.48854865399733,
  "spatialReference": {
   "cs": "gcs",
   "wkid": 4490
  }
 },
 "datesInUnknownTimezone": false,
 "minScale": 9234299.783085939,
 "maxScale": 2254.4677204799655,
 "units": "esriDecimalDegrees",
 "supportedImageFormatTypes": "PNG32,PNG24,PNG,JPG,DIB,TIFF,EMF,PS,PDF,GIF,SVG,SVGZ,BMP",
 "documentInfo": {
  "Title": "地图4",
  "Author": "",
  "Comments": "",
  "Subject": "",
  "Category": "",
  "Version": "3.0.0",
  "AntialiasingMode": "Fast",
  "TextAntialiasingMode": "Force",
  "Keywords": "影像2023"
 },
 "capabilities": "Map,Query,Data",
 "supportedQueryFormats": "JSON, geoJSON, PBF",
 "exportTilesAllowed": false,
 "referenceScale": 0.0,
 "supportsDatumTransformation": true,
 "archivingInfo": {
  "supportsHistoricMoment": false
 },
 "supportsClipping": true,
 "supportsSpatialFilter": true,
 "supportsTimeRelation": true,
 "supportsQueryDataElements": true,
 "mapUnits": {
  "uwkid": 9102
 },
 "maxRecordCount": 2000,
 "maxImageHeight": 4096,
 "maxImageWidth": 4096,
 "supportedExtensions": "",
 "resampling": false
}
